BEGIN:VCALENDAR
VERSION:2.0
PRODID:-//Park and Recreation - Prince Georges County MD - ECPv6.15.18//NONSGML v1.0//EN
CALSCALE:GREGORIAN
METHOD:PUBLISH
X-WR-CALNAME:Park and Recreation - Prince Georges County MD
X-ORIGINAL-URL:https://blackhistory.pgparks.com
X-WR-CALDESC:Events for Park and Recreation - Prince Georges County MD
REFRESH-INTERVAL;VALUE=DURATION:PT1H
X-Robots-Tag:noindex
X-PUBLISHED-TTL:PT1H
BEGIN:VTIMEZONE
TZID:America/New_York
BEGIN:DAYLIGHT
TZOFFSETFROM:-0500
TZOFFSETTO:-0400
TZNAME:EDT
DTSTART:20250309T070000
END:DAYLIGHT
BEGIN:STANDARD
TZOFFSETFROM:-0400
TZOFFSETTO:-0500
TZNAME:EST
DTSTART:20251102T060000
END:STANDARD
BEGIN:DAYLIGHT
TZOFFSETFROM:-0500
TZOFFSETTO:-0400
TZNAME:EDT
DTSTART:20260308T070000
END:DAYLIGHT
BEGIN:STANDARD
TZOFFSETFROM:-0400
TZOFFSETTO:-0500
TZNAME:EST
DTSTART:20261101T060000
END:STANDARD
BEGIN:DAYLIGHT
TZOFFSETFROM:-0500
TZOFFSETTO:-0400
TZNAME:EDT
DTSTART:20270314T070000
END:DAYLIGHT
BEGIN:STANDARD
TZOFFSETFROM:-0400
TZOFFSETTO:-0500
TZNAME:EST
DTSTART:20271107T060000
END:STANDARD
END:VTIMEZONE
BEGIN:VEVENT
DTSTART;TZID=America/New_York:20260203T190000
DTEND;TZID=America/New_York:20260203T210000
DTSTAMP:20260421T092942
CREATED:20251111T222613Z
LAST-MODIFIED:20260107T180846Z
UID:10000043-1770145200-1770152400@blackhistory.pgparks.com
SUMMARY:Black History Month Book and Film Discussion: Erasure and American Fiction - Part 1
DESCRIPTION:Join us for a two-part book discussion and film screening featuring Percival Everett’s satirical 2001 novel Erasure and its 2023 film adaptation\, the Best Picture-nominated dark comedy American Fiction\, starring Jeffrey Wright. The book and film examine (and skewer) the use of Black stereotypes in fiction and the anti-Black stance of the publishing industry.
URL:https://blackhistory.pgparks.com/event_list/black-history-month-book-and-film-discussion-erasure-and-american-fiction
CATEGORIES:Arts,Black History,Black History Month,Literary,Special Event,Special Events
END:VEVENT
BEGIN:VEVENT
DTSTART;TZID=America/New_York:20260207T140000
DTEND;TZID=America/New_York:20260207T153000
DTSTAMP:20260421T092942
CREATED:20251111T222620Z
LAST-MODIFIED:20260116T153829Z
UID:10000048-1770472800-1770478200@blackhistory.pgparks.com
SUMMARY:Black History Month with Brent Birckhead\, Saxophone
DESCRIPTION:Celebrate Black History Month with an unforgettable music matinee featuring award-winning saxophonist Brent Birckhead and his sextet. Hailed by The New York Times as “one of the most riveting young improvisers in New York\,” Birckhead blends tradition and innovation\, drawing from jazz\, soul\, and activism. A Howard University alumnus\, he has performed with legends like Lauryn Hill\, Nas\, and George Duke. Experience his powerful sound and storytelling\, showcasing the depth of African American musical heritage. Don’t miss this special tribute—an afternoon of history\, culture\, and soul-stirring jazz!
URL:https://blackhistory.pgparks.com/event_list/black-history-month-with-brent-birckhead-saxophone
CATEGORIES:Arts,Black History,Black History Month,Performance,Performances,Special Event
ATTACH;FMTTYPE=image/jpeg:https://blackhistory.pgparks.com/wp-content/uploads/2026/01/Brent-Birckhead_AiE-Artist_Kirby-GriffinP1-1.jpg
END:VEVENT
BEGIN:VEVENT
DTSTART;TZID=America/New_York:20260207T140000
DTEND;TZID=America/New_York:20260207T170000
DTSTAMP:20260421T092942
CREATED:20251111T222627Z
LAST-MODIFIED:20251203T221001Z
UID:10000082-1770472800-1770483600@blackhistory.pgparks.com
SUMMARY:Film Screening: Amazing Grace
DESCRIPTION:“Queen of Soul” Aretha Franklin assembled a choir at the New Bethel Baptist Church in Watts\, Los Angeles\, in 1972 to record her live album\, Amazing Grace. Footage of this remarkable gospel concert was shelved for decades over technical and legal issues; it was finally edited and released to critical acclaim in 2018. This is a must-see documentary for Aretha Franklin fans.
URL:https://blackhistory.pgparks.com/event_list/film-screening-amazing-grace
CATEGORIES:Arts,Black History,Black History Month,Special Event,Special Events
ATTACH;FMTTYPE=image/png:https://blackhistory.pgparks.com/wp-content/uploads/2025/09/Amazing-Grace-400x400-1.png
END:VEVENT
BEGIN:VEVENT
DTSTART;TZID=America/New_York:20260210T190000
DTEND;TZID=America/New_York:20260210T210000
DTSTAMP:20260421T092942
CREATED:20251111T222613Z
LAST-MODIFIED:20251203T220927Z
UID:10000044-1770750000-1770757200@blackhistory.pgparks.com
SUMMARY:Black History Month Book and Film Discussion: Erasure and American Fiction - Part 2
DESCRIPTION:Join us for a two-part book discussion and film screening featuring Percival Everett’s satirical 2001 novel Erasure and its 2023 film adaptation\, the Best Picture-nominated dark comedy American Fiction\, starring Jeffrey Wright. The book and film examine (and skewer) the use of Black stereotypes in fiction and the anti-Black stance of the publishing industry.
URL:https://blackhistory.pgparks.com/event_list/black-history-month-book-and-film-discussion-erasure-and-american-fiction-part-2
CATEGORIES:Arts,Black History,Black History Month,Literary,Special Event,Special Events
END:VEVENT
BEGIN:VEVENT
DTSTART;TZID=America/New_York:20260217T183000
DTEND;TZID=America/New_York:20260217T200000
DTSTAMP:20260421T092942
CREATED:20251111T222642Z
LAST-MODIFIED:20251212T151644Z
UID:10000135-1771353000-1771358400@blackhistory.pgparks.com
SUMMARY:Intermediate Acting 6-week Class
DESCRIPTION:This multi-week class builds upon foundational acting skills\, focusing on in-depth exploration of techniques\, character development\, and performance styles; often including scene work\, improvisation\, and analysis of dramatic texts. Participants should have a basic understanding of acting techniques and principles that the class will focus on refining and expanding. \n\n\n\nThis class will run from February 17 – March 24\, 2026 on Tuesday evenings\, 6:30 pm to 8:00 pm. Registration will open in mid-November\, 2025. Participants must register for the entire class session; there are no drop in rates.
URL:https://blackhistory.pgparks.com/event_list/intermediate-acting-6-week-class
CATEGORIES:Arts,Special Event
ATTACH;FMTTYPE=image/png:https://blackhistory.pgparks.com/wp-content/uploads/2025/07/PPH-Inter-Acting-Class.png
END:VEVENT
BEGIN:VEVENT
DTSTART;TZID=America/New_York:20260217T190000
DTEND;TZID=America/New_York:20260217T210000
DTSTAMP:20260421T092942
CREATED:20251111T222736Z
LAST-MODIFIED:20260223T145648Z
UID:10000318-1771354800-1771362000@blackhistory.pgparks.com
SUMMARY:Veterans Book Group
DESCRIPTION:Active service members and veterans of all eras are invited to join this free\, monthly small group reading and discussion dinner series centered around books which relate to military experiences or offer a veteran’s perspective. Veterans Book Group is coordinated statewide by Maryland Humanities and presented locally in partnership with Montpelier Arts Center. Discussions are led by Dr. Karen Arnold\, former poet-in-residence at the Arts Center and discussion moderator for multiple literature groups in Baltimore. Dinner and reading materials are provided. Call 301-377-7800 for more information and to register. Spaces are limited; registration is required by Jan. 6\, 2026. \n\n\n\nAges 18 & up; FREE; registration required
URL:https://blackhistory.pgparks.com/event_list/veterans-book-group/2026-02-17
CATEGORIES:Arts,Free,Literary,Special Event,Special Events
END:VEVENT
BEGIN:VEVENT
DTSTART;TZID=America/New_York:20260219T110000
DTEND;TZID=America/New_York:20260219T120000
DTSTAMP:20260421T092942
CREATED:20251111T222613Z
LAST-MODIFIED:20260217T200138Z
UID:10000039-1771498800-1771502400@blackhistory.pgparks.com
SUMMARY:Becoming Thurgood: America's Social Architect
DESCRIPTION:Becoming Thurgood: America’s Social Architect traces Thurgood Marshall’s life and career from his birth in Baltimore in 1908\, through his years at Historically Black Colleges and Universities (HBCUs) Lincoln University and Howard University School of Law\, and on to his groundbreaking career as a lawyer championing civil rights. After launching his legal career in Baltimore in 1935\, Marshall went on to win 29 of the 32 cases he argued before the U.S. Supreme Court\, most notably the landmark 1954 Brown v. Board of Education case\, which invalidated the “separate but equal” doctrine and ended racial segregation in public schools. In 1967\, Marshall became the first African American appointed to the U.S. Supreme Court\, where he served until his retirement in 1991. Becoming Thurgood: America’s Social Architect includes exclusive interviews with family members\, leading historians and authors\, and legal experts who offer fresh insights into the life and extraordinary influence of the man who became known as “Mr. Civil Rights.” \n\n\n\nExecutive produced by Emmy Award-winning and Oscar-nominated filmmaker Stanley Nelson and MPT Senior Vice President and Chief Content Officer Travis Mitchell\, the film is produced and directed by Alexis Aggrey\, with music by two-time Grammy Award-winning composer Derrick Hodge. “For the first time\, audiences will hear Thurgood Marshall tell his own story – in his own words\,” said director and producer Alexis Aggrey. “This film is the first to center Marshall’s own voice\, drawn from a rare eight-hour oral history. It’s not just a documentary; it’s a conversation with a man whose legal mind reshaped the nation and whose legacy still echoes through our justice system today.” \n\n\n\nNote: reservations strongly recommended due to limited seating.This film is not yet rated; Run Time: 1 hourThere will also be a talkback after the film screening with members of the production team. \n\n\n\n\nView the Discussion Guide for the Film.
URL:https://blackhistory.pgparks.com/event_list/becoming-thurgood-americas-social-architect
CATEGORIES:Arts,Black History,Black History Month,Senior,Special Event,Special Events
ATTACH;FMTTYPE=image/png:https://blackhistory.pgparks.com/wp-content/uploads/2025/07/Becoming-Thurgood-400x400-1.png
END:VEVENT
BEGIN:VEVENT
DTSTART;TZID=America/New_York:20260219T190000
DTEND;TZID=America/New_York:20260219T210000
DTSTAMP:20260421T092942
CREATED:20251111T222712Z
LAST-MODIFIED:20251203T220725Z
UID:10000222-1771527600-1771534800@blackhistory.pgparks.com
SUMMARY:Sisters With Transistors
DESCRIPTION:This documentary celebrates the trailblazing women who revolutionized electronic music. Featuring legends like Wendy Carlos and Suzanne Ciani\, Sisters With Transistors showcases how these women shaped the soundscape of the 20th century using modular synthesizers.
URL:https://blackhistory.pgparks.com/event_list/sisters-with-transistors
CATEGORIES:Arts,Special Event,Special Events
ATTACH;FMTTYPE=image/png:https://blackhistory.pgparks.com/wp-content/uploads/2025/07/Sisters-with-Transistors-400x400-1.png
END:VEVENT
BEGIN:VEVENT
DTSTART;TZID=America/New_York:20260221T130000
DTEND;TZID=America/New_York:20260221T150000
DTSTAMP:20260421T092942
CREATED:20251111T222712Z
LAST-MODIFIED:20251203T164115Z
UID:10000210-1771678800-1771686000@blackhistory.pgparks.com
SUMMARY:Reimagining Shelter: Exploring Identity and Community through Art and Storytelling 
DESCRIPTION:Through art making and storytelling\, this workshop aims to redefine shelter as a space of security\, warmth\, safe space\, and family\, fostering empathy and understanding. Resident artist Nikki Brooks will lead participants in guided meditation\, an art activity\, and open conversations about home\, neighborhood dynamics\, gentrification\, and family tradition\, sparking deep reflections and meaningful exchanges.
URL:https://blackhistory.pgparks.com/event_list/reimagining-shelter-exploring-identity-and-community-through-art-and-storytelling
CATEGORIES:Arts,Special Event,Special Events,Workshops
ATTACH;FMTTYPE=image/png:https://blackhistory.pgparks.com/wp-content/uploads/2025/07/Reimaginging-Shelter.png
END:VEVENT
BEGIN:VEVENT
DTSTART;TZID=America/New_York:20260222T160000
DTEND;TZID=America/New_York:20260222T170000
DTSTAMP:20260421T092942
CREATED:20251111T222736Z
LAST-MODIFIED:20260220T223408Z
UID:10000324-1771776000-1771779600@blackhistory.pgparks.com
SUMMARY:Voices From the Past: Black Music of the Colonial Period and Forgotten Patriots
DESCRIPTION:This riveting\, narrated recital takes audience members back to America’s colonial period to explore the music\, instruments\, voices\, and lives of enslaved Africans and forgotten patriots. The music will include period instruments\, traditional folk songs\, patriotic selections\, and Negro spirituals performed by Black musicians. Produced by the Coalition for African Americans in the Performing Arts (CAAPA).
URL:https://blackhistory.pgparks.com/event_list/voices-from-the-past-black-music-of-the-colonial-period-and-forgotten-patriots
CATEGORIES:All Ages,Arts,Black History,Black History Month,Free,Performance,Performances,Special Event
ATTACH;FMTTYPE=image/png:https://blackhistory.pgparks.com/wp-content/uploads/2025/09/Voices-from-the-past-400x400-1.png
END:VEVENT
BEGIN:VEVENT
DTSTART;TZID=America/New_York:20260227T100000
DTEND;TZID=America/New_York:20260227T120000
DTSTAMP:20260421T092942
CREATED:20260210T180752Z
LAST-MODIFIED:20260220T222437Z
UID:10001216-1772186400-1772193600@blackhistory.pgparks.com
SUMMARY:Dr. Seuss' Birthday Celebration
DESCRIPTION:Celebrate Dr. Seuss’ birthday with us with puppet shows\, engaging stories\, and Seuss-inspired crafts and activities. A perfect morning for preschoolers and their families!
URL:https://blackhistory.pgparks.com/event_list/dr-seuss-birthday-celebration
CATEGORIES:Arts,Literary,Special Event,Special Events,Youth
ATTACH;FMTTYPE=image/png:https://blackhistory.pgparks.com/wp-content/uploads/2026/02/Dr-Seus-Birthday-2026-600x400-1.png
END:VEVENT
BEGIN:VEVENT
DTSTART;TZID=America/New_York:20260228T130000
DTEND;TZID=America/New_York:20260228T160000
DTSTAMP:20260421T092942
CREATED:20251111T222620Z
LAST-MODIFIED:20260220T221146Z
UID:10000056-1772283600-1772294400@blackhistory.pgparks.com
SUMMARY:Crafting Cultural Connections: Hands-on Jewelry Making Experience
DESCRIPTION:Jewelry is more than adornment—it’s a reflection of history\, culture\, and identity. This hands-on workshop invites participants to explore the artistry of jewelry-making while connecting with the rich traditions of the Basotho people in Southern Africa. Attendees will gain hands-on experience in crafting unique pieces\, while also exploring the historical and cultural significance behind various jewelry designs and materials.
URL:https://blackhistory.pgparks.com/event_list/crafting-cultural-connections-hands-on-jewelry-making-experience
CATEGORIES:All Ages,Arts,Special Event,Special Events,Workshops
ATTACH;FMTTYPE=image/jpeg:https://blackhistory.pgparks.com/wp-content/uploads/2024/11/WebsiteBlocks20242.jpg
END:VEVENT
END:VCALENDAR