BEGIN:VCALENDAR
VERSION:2.0
PRODID:-//Park and Recreation - Prince Georges County MD - ECPv6.15.18//NONSGML v1.0//EN
CALSCALE:GREGORIAN
METHOD:PUBLISH
X-WR-CALNAME:Park and Recreation - Prince Georges County MD
X-ORIGINAL-URL:https://blackhistory.pgparks.com
X-WR-CALDESC:Events for Park and Recreation - Prince Georges County MD
REFRESH-INTERVAL;VALUE=DURATION:PT1H
X-Robots-Tag:noindex
X-PUBLISHED-TTL:PT1H
BEGIN:VTIMEZONE
TZID:America/New_York
BEGIN:DAYLIGHT
TZOFFSETFROM:-0500
TZOFFSETTO:-0400
TZNAME:EDT
DTSTART:20250309T070000
END:DAYLIGHT
BEGIN:STANDARD
TZOFFSETFROM:-0400
TZOFFSETTO:-0500
TZNAME:EST
DTSTART:20251102T060000
END:STANDARD
BEGIN:DAYLIGHT
TZOFFSETFROM:-0500
TZOFFSETTO:-0400
TZNAME:EDT
DTSTART:20260308T070000
END:DAYLIGHT
BEGIN:STANDARD
TZOFFSETFROM:-0400
TZOFFSETTO:-0500
TZNAME:EST
DTSTART:20261101T060000
END:STANDARD
BEGIN:DAYLIGHT
TZOFFSETFROM:-0500
TZOFFSETTO:-0400
TZNAME:EDT
DTSTART:20270314T070000
END:DAYLIGHT
BEGIN:STANDARD
TZOFFSETFROM:-0400
TZOFFSETTO:-0500
TZNAME:EST
DTSTART:20271107T060000
END:STANDARD
END:VTIMEZONE
BEGIN:VEVENT
DTSTART;VALUE=DATE:20260305
DTEND;VALUE=DATE:20260308
DTSTAMP:20260421T075657
CREATED:20260304T155328Z
LAST-MODIFIED:20260310T162429Z
UID:10002408-1772668800-1772927999@blackhistory.pgparks.com
SUMMARY:2026 MPSSAA Wrestling State Championships
DESCRIPTION:Thursday\, March 5 – Doors open at 1 pm; Event Hours: 2:30-9 pm (approximately) \n\n\n\nFriday\, March 6 – Doors open at 10:30 am; Event Hours: 11:30 am-8 pm (approximately) \n\n\n\nSaturday\, March 7 – Doors open at 9 am; Event Hours: 11 am-7 pm (approximately) \n\n\n\nContact information: 410-767-0555 \n\n\n\nWebsite: https://www.mpssaa.org/
URL:https://blackhistory.pgparks.com/event_list/2026-mpssaa-wrestling-state-championships
CATEGORIES:Special Event
ATTACH;FMTTYPE=image/jpeg:https://blackhistory.pgparks.com/wp-content/uploads/2026/03/MPSSAA_Alternate_Logo_600x400.jpg
END:VEVENT
BEGIN:VEVENT
DTSTART;TZID=America/New_York:20260312T110000
DTEND;TZID=America/New_York:20260312T123000
DTSTAMP:20260421T075657
CREATED:20251111T222627Z
LAST-MODIFIED:20251118T214517Z
UID:10000081-1773313200-1773318600@blackhistory.pgparks.com
SUMMARY:Film Screening: All Dirt Roads Taste of Salt (2023)
DESCRIPTION:One of the most visually striking\, profoundly moving American moviemaking debuts in years\, Raven Jackson’s All Dirt Roads Taste of Salt is an arresting immersion into a young woman’s inner world\, filmed and edited with an extraordinary tactility and attention to the tiniest detail. This impressionistic journey skips through decades to tell the story of Mack\, whose upbringing in rural Mississippi is touched by grace\, dotted with heartbreak\, and always carried aloft by the surrounding natural beauty. It’s a haunting and richly layered portrait\, a beautiful ode to the generations of people and places that shape us.Rated PG | Run time: 1h 32m
URL:https://blackhistory.pgparks.com/event_list/film-screening-all-dirt-roads-taste-of-salt-2023
CATEGORIES:Arts,Senior,Special Event
ATTACH;FMTTYPE=image/jpeg:https://blackhistory.pgparks.com/wp-content/uploads/2025/07/All-Dirt-Roads-400x400-1.jpg
END:VEVENT
BEGIN:VEVENT
DTSTART;TZID=America/New_York:20260316T190000
DTEND;TZID=America/New_York:20260316T210000
DTSTAMP:20260421T075657
CREATED:20251111T222704Z
LAST-MODIFIED:20260220T210433Z
UID:10000192-1773687600-1773694800@blackhistory.pgparks.com
SUMMARY:Patch CV: Controlling Voltage
DESCRIPTION:Discover the inner workings of the modular music world in Patch CV: Controlling Voltage\, which explores the intricate technology and passionate community behind the creation of modular synths. This film takes a deep dive into the artistry and technicality that powers modular sound creation.
URL:https://blackhistory.pgparks.com/event_list/patch-cv-controlling-voltage
CATEGORIES:Arts,Free,Special Event
ATTACH;FMTTYPE=image/png:https://blackhistory.pgparks.com/wp-content/uploads/2025/07/Patch-400x400-1.png
END:VEVENT
BEGIN:VEVENT
DTSTART;TZID=America/New_York:20260317T190000
DTEND;TZID=America/New_York:20260317T210000
DTSTAMP:20260421T075657
CREATED:20251111T222736Z
LAST-MODIFIED:20260223T145648Z
UID:10000319-1773774000-1773781200@blackhistory.pgparks.com
SUMMARY:Veterans Book Group
DESCRIPTION:Active service members and veterans of all eras are invited to join this free\, monthly small group reading and discussion dinner series centered around books which relate to military experiences or offer a veteran’s perspective. Veterans Book Group is coordinated statewide by Maryland Humanities and presented locally in partnership with Montpelier Arts Center. Discussions are led by Dr. Karen Arnold\, former poet-in-residence at the Arts Center and discussion moderator for multiple literature groups in Baltimore. Dinner and reading materials are provided. Call 301-377-7800 for more information and to register. Spaces are limited; registration is required by Jan. 6\, 2026. \n\n\n\nAges 18 & up; FREE; registration required
URL:https://blackhistory.pgparks.com/event_list/veterans-book-group/2026-03-17
CATEGORIES:Arts,Free,Literary,Special Event,Special Events
END:VEVENT
BEGIN:VEVENT
DTSTART;TZID=America/New_York:20260320T190000
DTEND;TZID=America/New_York:20260320T220000
DTSTAMP:20260421T075657
CREATED:20260318T183457Z
LAST-MODIFIED:20260318T183509Z
UID:10002790-1774033200-1774044000@blackhistory.pgparks.com
SUMMARY:Laugh Out Loud at Marlow Heights
DESCRIPTION:Get ready to laugh out loud at the LOL Comedy Show\, designed just for teens! This high-energy event delivers clean\, engaging comedy in a fun and welcoming environment. Featuring professional comedians who know how to connect with the 12–17 age group\, the show is packed with humor that’s relatable\, appropriate\, and entertaining for all.More than just a comedy show\, it’s an opportunity for teens to come together\, enjoy great vibes\, and share an unforgettable evening of laughter with friends. \n\n\n\nJoin us at Marlow Heights Community Center on March 20 at 7 PM for three hours of fun\, connection\, and nonstop laughs. Don’t miss it!Featuring Comedians: Baybayent\, Nookwitahookup and Ayye Pap.
URL:https://blackhistory.pgparks.com/event_list/laugh-out-loud-at-marlow-heights
CATEGORIES:Special Event,Teens
ATTACH;FMTTYPE=image/jpeg:https://blackhistory.pgparks.com/wp-content/uploads/2026/03/Teen-Comedy-SHow-2026-600x400-1.jpg
END:VEVENT
BEGIN:VEVENT
DTSTART;TZID=America/New_York:20260321T080000
DTEND;TZID=America/New_York:20260321T200000
DTSTAMP:20260421T075657
CREATED:20260304T154804Z
LAST-MODIFIED:20260312T161319Z
UID:10002404-1774080000-1774123200@blackhistory.pgparks.com
SUMMARY:BEST Horse Show
DESCRIPTION:Click here to visit the BEST Horse Shows website.  \n\n\n\nContact the event organizers at besthorseshows@gmail.com \n\n\n\nOwner/Show Manager: Jaime Suchoski\, 410-340-5793
URL:https://blackhistory.pgparks.com/event_list/best-horse-show/2026-03-21
CATEGORIES:Special Event
ATTACH;FMTTYPE=image/png:https://blackhistory.pgparks.com/wp-content/uploads/2024/10/BlackEyeSusan.png
END:VEVENT
BEGIN:VEVENT
DTSTART;TZID=America/New_York:20260321T120000
DTEND;TZID=America/New_York:20260321T140000
DTSTAMP:20260421T075657
CREATED:20260205T152557Z
LAST-MODIFIED:20260317T135922Z
UID:10001205-1774094400-1774101600@blackhistory.pgparks.com
SUMMARY:Mats & Mocktails
DESCRIPTION:Join us at our Mats and Mocktails event! Enjoy creating your own doormat and tasting handcrafted mocktails. The event includes light refreshments and music set in an atmosphere of creativity. See you there!
URL:https://blackhistory.pgparks.com/event_list/mats-mocktails
CATEGORIES:18 and up,Lifestyle & Learning,Special Event
ATTACH;FMTTYPE=image/jpeg:https://blackhistory.pgparks.com/wp-content/uploads/2026/02/Mats-and-Mocktails-2026-600x400-1.jpg
END:VEVENT
BEGIN:VEVENT
DTSTART;TZID=America/New_York:20260321T180000
DTEND;TZID=America/New_York:20260321T210000
DTSTAMP:20260421T075657
CREATED:20251111T222720Z
LAST-MODIFIED:20260220T204950Z
UID:10000290-1774116000-1774126800@blackhistory.pgparks.com
SUMMARY:Teen Vocal Showcase
DESCRIPTION:Calling all teen vocalists! Register today to audition for the Teen Vocal Showcase 2026. This vocal performance opportunity is for Prince George’s County pre-teens ages 10 to 12 and teens 13-18. Selected participants will have a chance to perform and complete in a showcase at the historic Public Playhouse for prizes ranging from $500 to $1\,000! \n\n\n\nAudtion Dates:\n\n\n\nAudition #1: November 15\, 2025\, at Suitland High School (5200 Silver Hill Rd.\, Forestville 20747) \n\n\n\nAudition #2: November 22\, 2025\, at John Addison Concert Hall at Harmony Hall Arts Center (10701 Livingston Rd\, Fort Washington\, Maryland 20774) \n\n\n\nAudition #3: December 13\, 2025\, at Kentland Community Center (2413 Pinebrook Ave.\, Landover 20785) \n\n\n\nAudition #4: January 3\, 2026\, at Deerfield Run Community Center (13000 Laurel – Bowie Rd. Laurel\, Maryland 20708) \n\n\n\nAudition Times:\n\n\n\n10 am-3 pm \n\n\n\nFive minute slots \n\n\n\nShowcase: \n\n\n\nSaturday\, March 21\, 2026\, 6 pm–9 pm \n\n\n\nAudition Music:\n\n\n\nParticipants must have music downloaded on an MP4 flash drive or saved on their cell phones. (Please note: Adults will operate cell phones for participants. Cell phones must remain in airplane mode for no interruptions. Secular music is prohibited) \n\n\n\nPrize Money \n\n\n\n1st Place Winnings $1000 \n\n\n\n2nd Place Winnings $500 \n\n\n\nRegistration Fee: FREE (must be 18 years old by March 30\, 2026\,  to participate. Attend and show proof of Prince Georges County Public Schools via school ID\, school max\, etc.) \n\n\n\n\n\n\n\n\n\n\n\n                \n                        \n                            Teen Vocal Showcase\n                            All participants must provide proof of school by providing school ID and/or License to show proof of age and school attending. All participants must attend Prince Georges County Public Schools/Private Schools. \n                        \n                        Name(Required)\n                            \n                            \n                                                    First\n                                                    \n                                                \n                            \n                            \n                                                            Last\n                                                            \n                                                        \n                            \n                        School Name(Required) Date Of Birth(Required)\n                            \n                            MM slash DD slash YYYY\n                        \n                        Grade(Required)Please enter a number from 1 to 12.Gender Prefrence(Required) Student Phone Number(Required)Parent Phone Number(Required)Student Email(Required)\n                                \n                                    Enter Email\n                                    \n                                \n                                \n                                    Confirm Email\n                                    \n                                \n                                \n                            Parent Email(Required)\n                                \n                                    Enter Email\n                                    \n                                \n                                \n                                    Confirm Email\n                                    \n                                \n                                \n                            Instagram Name Genre Of Music(Required) Who/What Is Your Musical Inspiration(Required) What Do You Want To Be When You Grow Up(Required) How Did You Find Out About Us Number
URL:https://blackhistory.pgparks.com/event_list/teen-vocal-showcase
CATEGORIES:All Ages,Arts,Performance,Performances,Special Event,Special Events,Teens,Youth
ATTACH;FMTTYPE=image/jpeg:https://blackhistory.pgparks.com/wp-content/uploads/2024/06/TeenVocalShowecase25-11.jpg
END:VEVENT
BEGIN:VEVENT
DTSTART;TZID=America/New_York:20260322T080000
DTEND;TZID=America/New_York:20260322T200000
DTSTAMP:20260421T075657
CREATED:20260304T154804Z
LAST-MODIFIED:20260312T161319Z
UID:10002405-1774166400-1774209600@blackhistory.pgparks.com
SUMMARY:BEST Horse Show
DESCRIPTION:Click here to visit the BEST Horse Shows website.  \n\n\n\nContact the event organizers at besthorseshows@gmail.com \n\n\n\nOwner/Show Manager: Jaime Suchoski\, 410-340-5793
URL:https://blackhistory.pgparks.com/event_list/best-horse-show/2026-03-22
CATEGORIES:Special Event
ATTACH;FMTTYPE=image/png:https://blackhistory.pgparks.com/wp-content/uploads/2024/10/BlackEyeSusan.png
END:VEVENT
BEGIN:VEVENT
DTSTART;TZID=America/New_York:20260326T070000
DTEND;TZID=America/New_York:20260326T213000
DTSTAMP:20260421T075657
CREATED:20260219T143004Z
LAST-MODIFIED:20260223T185213Z
UID:10001290-1774508400-1774560600@blackhistory.pgparks.com
SUMMARY:Atlantic City Day Trip
DESCRIPTION:Join us for a full-day excursion to Atlantic City featuring free time at Ocean Casino Resort and a stop at Tanger Outlets Atlantic City for shopping. Participants will enjoy time to explore dining\, gaming\, outlet shopping\, and the iconic Atlantic City Boardwalk at their own pace. Complimentary light snacks and beverages will be provided during transportation.
URL:https://blackhistory.pgparks.com/event_list/atlantic-city-day-trip
CATEGORIES:Special Event,Tours
ATTACH;FMTTYPE=image/jpeg:https://blackhistory.pgparks.com/wp-content/uploads/2026/02/Atlantic-City-Day-Trip-2026-600x400-1.jpg
END:VEVENT
BEGIN:VEVENT
DTSTART;TZID=America/New_York:20260328T100000
DTEND;TZID=America/New_York:20260328T140000
DTSTAMP:20260421T075657
CREATED:20260224T144130Z
LAST-MODIFIED:20260319T180422Z
UID:10001300-1774692000-1774706400@blackhistory.pgparks.com
SUMMARY:Annual Seasonal Career Fair
DESCRIPTION:M-NCPPC\, Department of Parks and Recreation\, Prince George’s County\, is a great place to start your career adventure! For more information\, visit pgparks.com/careers.
URL:https://blackhistory.pgparks.com/event_list/annual-seasonal-career-fair
CATEGORIES:All Ages,Free,Special Event,Special Events,Teens
ATTACH;FMTTYPE=image/png:https://blackhistory.pgparks.com/wp-content/uploads/2026/02/Career-Fair-2026-600x400-1.png
END:VEVENT
BEGIN:VEVENT
DTSTART;TZID=America/New_York:20260328T103000
DTEND;TZID=America/New_York:20260328T113000
DTSTAMP:20260421T075657
CREATED:20260205T150533Z
LAST-MODIFIED:20260312T171510Z
UID:10001195-1774693800-1774697400@blackhistory.pgparks.com
SUMMARY:STEAM Hour: Wings For Val Robotics
DESCRIPTION:Join our educators at this hands-on activity table where creativity takes flight! Drop in anytime during the hour for a special STEAM Hour to learn the basics of block coding with Ozobots and then test your skills with our air race challenge. Can you plot the fastest course for your bot? This program is ideal for learners ages 8-12 and is FREE with museum admission. No registration required.
URL:https://blackhistory.pgparks.com/event_list/steamhour-wings-for-val-robotics/2026-03-28
CATEGORIES:250th Anniversary,Free,Lifestyle & Learning,Special Event,Technology,Youth
ATTACH;FMTTYPE=image/jpeg:https://blackhistory.pgparks.com/wp-content/uploads/2024/11/Lego-AA.jpg
END:VEVENT
BEGIN:VEVENT
DTSTART;TZID=America/New_York:20260328T120000
DTEND;TZID=America/New_York:20260328T150000
DTSTAMP:20260421T075657
CREATED:20260304T145757Z
LAST-MODIFIED:20260306T203959Z
UID:10002396-1774699200-1774710000@blackhistory.pgparks.com
SUMMARY:Hop & Seek
DESCRIPTION:Bring your basket and hop into spring at this EGG-citing\, one-day community fest filled with fun\, laughter\, and connection! \n\n\n\nJoin us for a family-friendly spring adventure where kids can hunt for colorful eggs\, skate\, and get creative with festive arm painting. With games\, music\, light refreshments\, and so much more\, there’s something for everyone to enjoy.
URL:https://blackhistory.pgparks.com/event_list/hop-seek
CATEGORIES:Free,Special Event,Youth
ATTACH;FMTTYPE=image/jpeg:https://blackhistory.pgparks.com/wp-content/uploads/2026/03/Hop-and-Seek-2026-600x400-1.jpg
END:VEVENT
BEGIN:VEVENT
DTSTART;TZID=America/New_York:20260328T130000
DTEND;TZID=America/New_York:20260328T140000
DTSTAMP:20260421T075657
CREATED:20260113T152438Z
LAST-MODIFIED:20260220T195419Z
UID:10000952-1774702800-1774706400@blackhistory.pgparks.com
SUMMARY:Women’s History Month Guest Speaker: Valerie Nicholas
DESCRIPTION:The Honorable Valerie Nicholas has been a Laurel history maker since her appointment to the Laurel City Council in 2011. She is the first and only African American woman to serve in the role\, to date. Valerie is a compassionate community servant and considers her role as a “labor of love and legislation.” 2011 was an inspirational year for her\, as in addition to adjusting to her new role as Councilwoman\, she also revived her non-profit\, Love Is Not Enough\, Inc. This organization was born from her own painful experiences of domestic abuse\, from a young girl to adulthood.Join us for a wonderfully impactful discussion. \n\n\n\nAll Ages. Free\, donations are welcomed.
URL:https://blackhistory.pgparks.com/event_list/womens-history-month-guest-speaker-valerie-nicholas
CATEGORIES:All Ages,Free,Lifestyle & Learning,Special Event
ATTACH;FMTTYPE=image/jpeg:https://blackhistory.pgparks.com/wp-content/uploads/2026/01/Valerie-Nicholas-2026-600x400-1.jpg
END:VEVENT
BEGIN:VEVENT
DTSTART;TZID=America/New_York:20260329T103000
DTEND;TZID=America/New_York:20260329T113000
DTSTAMP:20260421T075657
CREATED:20260205T150533Z
LAST-MODIFIED:20260312T171510Z
UID:10001196-1774780200-1774783800@blackhistory.pgparks.com
SUMMARY:STEAM Hour: Wings For Val Robotics
DESCRIPTION:Join our educators at this hands-on activity table where creativity takes flight! Drop in anytime during the hour for a special STEAM Hour to learn the basics of block coding with Ozobots and then test your skills with our air race challenge. Can you plot the fastest course for your bot? This program is ideal for learners ages 8-12 and is FREE with museum admission. No registration required.
URL:https://blackhistory.pgparks.com/event_list/steamhour-wings-for-val-robotics/2026-03-29
CATEGORIES:250th Anniversary,Free,Lifestyle & Learning,Special Event,Technology,Youth
ATTACH;FMTTYPE=image/jpeg:https://blackhistory.pgparks.com/wp-content/uploads/2024/11/Lego-AA.jpg
END:VEVENT
END:VCALENDAR