BEGIN:VCALENDAR
VERSION:2.0
PRODID:-//Park and Recreation - Prince Georges County MD - ECPv6.15.18//NONSGML v1.0//EN
CALSCALE:GREGORIAN
METHOD:PUBLISH
X-WR-CALNAME:Park and Recreation - Prince Georges County MD
X-ORIGINAL-URL:https://blackhistory.pgparks.com
X-WR-CALDESC:Events for Park and Recreation - Prince Georges County MD
REFRESH-INTERVAL;VALUE=DURATION:PT1H
X-Robots-Tag:noindex
X-PUBLISHED-TTL:PT1H
BEGIN:VTIMEZONE
TZID:America/New_York
BEGIN:DAYLIGHT
TZOFFSETFROM:-0500
TZOFFSETTO:-0400
TZNAME:EDT
DTSTART:20250309T070000
END:DAYLIGHT
BEGIN:STANDARD
TZOFFSETFROM:-0400
TZOFFSETTO:-0500
TZNAME:EST
DTSTART:20251102T060000
END:STANDARD
BEGIN:DAYLIGHT
TZOFFSETFROM:-0500
TZOFFSETTO:-0400
TZNAME:EDT
DTSTART:20260308T070000
END:DAYLIGHT
BEGIN:STANDARD
TZOFFSETFROM:-0400
TZOFFSETTO:-0500
TZNAME:EST
DTSTART:20261101T060000
END:STANDARD
BEGIN:DAYLIGHT
TZOFFSETFROM:-0500
TZOFFSETTO:-0400
TZNAME:EDT
DTSTART:20270314T070000
END:DAYLIGHT
BEGIN:STANDARD
TZOFFSETFROM:-0400
TZOFFSETTO:-0500
TZNAME:EST
DTSTART:20271107T060000
END:STANDARD
END:VTIMEZONE
BEGIN:VEVENT
DTSTART;TZID=America/New_York:20260701T093000
DTEND;TZID=America/New_York:20260701T103000
DTSTAMP:20260421T212733
CREATED:20260225T205531Z
LAST-MODIFIED:20260402T135752Z
UID:10002152-1782898200-1782901800@blackhistory.pgparks.com
SUMMARY:Yoga
DESCRIPTION:Stretch toward your fitness goals! Learn basic yoga to improve health and flexibility through deep breathing and controlled stretching. Reduce stress\, get better sleep\, and build muscle stamina as you practice new or previously learned yoga skills. 
URL:https://blackhistory.pgparks.com/event_list/yoga-2/2026-07-01
CATEGORIES:Free,May is Fitness Month
ATTACH;FMTTYPE=image/jpeg:https://blackhistory.pgparks.com/wp-content/uploads/2026/02/Yoga-2026-600x400-1.jpg
END:VEVENT
BEGIN:VEVENT
DTSTART;TZID=America/New_York:20260708T093000
DTEND;TZID=America/New_York:20260708T103000
DTSTAMP:20260421T212733
CREATED:20260225T205531Z
LAST-MODIFIED:20260402T135752Z
UID:10002153-1783503000-1783506600@blackhistory.pgparks.com
SUMMARY:Yoga
DESCRIPTION:Stretch toward your fitness goals! Learn basic yoga to improve health and flexibility through deep breathing and controlled stretching. Reduce stress\, get better sleep\, and build muscle stamina as you practice new or previously learned yoga skills. 
URL:https://blackhistory.pgparks.com/event_list/yoga-2/2026-07-08
CATEGORIES:Free,May is Fitness Month
ATTACH;FMTTYPE=image/jpeg:https://blackhistory.pgparks.com/wp-content/uploads/2026/02/Yoga-2026-600x400-1.jpg
END:VEVENT
BEGIN:VEVENT
DTSTART;TZID=America/New_York:20260715T093000
DTEND;TZID=America/New_York:20260715T103000
DTSTAMP:20260421T212733
CREATED:20260225T205531Z
LAST-MODIFIED:20260402T135752Z
UID:10002154-1784107800-1784111400@blackhistory.pgparks.com
SUMMARY:Yoga
DESCRIPTION:Stretch toward your fitness goals! Learn basic yoga to improve health and flexibility through deep breathing and controlled stretching. Reduce stress\, get better sleep\, and build muscle stamina as you practice new or previously learned yoga skills. 
URL:https://blackhistory.pgparks.com/event_list/yoga-2/2026-07-15
CATEGORIES:Free,May is Fitness Month
ATTACH;FMTTYPE=image/jpeg:https://blackhistory.pgparks.com/wp-content/uploads/2026/02/Yoga-2026-600x400-1.jpg
END:VEVENT
BEGIN:VEVENT
DTSTART;TZID=America/New_York:20260722T093000
DTEND;TZID=America/New_York:20260722T103000
DTSTAMP:20260421T212733
CREATED:20260225T205531Z
LAST-MODIFIED:20260402T135752Z
UID:10002155-1784712600-1784716200@blackhistory.pgparks.com
SUMMARY:Yoga
DESCRIPTION:Stretch toward your fitness goals! Learn basic yoga to improve health and flexibility through deep breathing and controlled stretching. Reduce stress\, get better sleep\, and build muscle stamina as you practice new or previously learned yoga skills. 
URL:https://blackhistory.pgparks.com/event_list/yoga-2/2026-07-22
CATEGORIES:Free,May is Fitness Month
ATTACH;FMTTYPE=image/jpeg:https://blackhistory.pgparks.com/wp-content/uploads/2026/02/Yoga-2026-600x400-1.jpg
END:VEVENT
BEGIN:VEVENT
DTSTART;TZID=America/New_York:20260729T093000
DTEND;TZID=America/New_York:20260729T103000
DTSTAMP:20260421T212733
CREATED:20260225T205531Z
LAST-MODIFIED:20260402T135752Z
UID:10002156-1785317400-1785321000@blackhistory.pgparks.com
SUMMARY:Yoga
DESCRIPTION:Stretch toward your fitness goals! Learn basic yoga to improve health and flexibility through deep breathing and controlled stretching. Reduce stress\, get better sleep\, and build muscle stamina as you practice new or previously learned yoga skills. 
URL:https://blackhistory.pgparks.com/event_list/yoga-2/2026-07-29
CATEGORIES:Free,May is Fitness Month
ATTACH;FMTTYPE=image/jpeg:https://blackhistory.pgparks.com/wp-content/uploads/2026/02/Yoga-2026-600x400-1.jpg
END:VEVENT
END:VCALENDAR