BEGIN:VCALENDAR
VERSION:2.0
PRODID:-//Park and Recreation - Prince Georges County MD - ECPv6.15.18//NONSGML v1.0//EN
CALSCALE:GREGORIAN
METHOD:PUBLISH
X-WR-CALNAME:Park and Recreation - Prince Georges County MD
X-ORIGINAL-URL:https://blackhistory.pgparks.com
X-WR-CALDESC:Events for Park and Recreation - Prince Georges County MD
REFRESH-INTERVAL;VALUE=DURATION:PT1H
X-Robots-Tag:noindex
X-PUBLISHED-TTL:PT1H
BEGIN:VTIMEZONE
TZID:America/New_York
BEGIN:DAYLIGHT
TZOFFSETFROM:-0500
TZOFFSETTO:-0400
TZNAME:EDT
DTSTART:20250309T070000
END:DAYLIGHT
BEGIN:STANDARD
TZOFFSETFROM:-0400
TZOFFSETTO:-0500
TZNAME:EST
DTSTART:20251102T060000
END:STANDARD
BEGIN:DAYLIGHT
TZOFFSETFROM:-0500
TZOFFSETTO:-0400
TZNAME:EDT
DTSTART:20260308T070000
END:DAYLIGHT
BEGIN:STANDARD
TZOFFSETFROM:-0400
TZOFFSETTO:-0500
TZNAME:EST
DTSTART:20261101T060000
END:STANDARD
BEGIN:DAYLIGHT
TZOFFSETFROM:-0500
TZOFFSETTO:-0400
TZNAME:EDT
DTSTART:20270314T070000
END:DAYLIGHT
BEGIN:STANDARD
TZOFFSETFROM:-0400
TZOFFSETTO:-0500
TZNAME:EST
DTSTART:20271107T060000
END:STANDARD
END:VTIMEZONE
BEGIN:VEVENT
DTSTART;TZID=America/New_York:20260627T100000
DTEND;TZID=America/New_York:20260808T170000
DTSTAMP:20260421T154125
CREATED:20251111T222605Z
LAST-MODIFIED:20260220T145347Z
UID:10000018-1782554400-1786208400@blackhistory.pgparks.com
SUMMARY:Aaron Oldenburg: Night Walks
DESCRIPTION:* This exhibition runs Jun. 27–Aug. 8\, with a public reception on Sat.\, Jul. 11. * \n\n\n\nAaron Oldenburg creates artworks using game engines\, coding languages\, 2D and 3D digital art creation software\, and audio sampling. This exhibition is a series of procedural software works\, including interactive virtual reality\, that deal with memory\, climate instability\, and bodily de/re-composition. Prints of screenshots taken from them accompany the works.
URL:https://blackhistory.pgparks.com/event_list/aaron-oldenburg-night-walks
CATEGORIES:All Ages,Arts,Exhibition,Free
ATTACH;FMTTYPE=image/png:https://blackhistory.pgparks.com/wp-content/uploads/2025/09/Aaron-Oldenburg.png
END:VEVENT
BEGIN:VEVENT
DTSTART;TZID=America/New_York:20260627T110000
DTEND;TZID=America/New_York:20260627T120000
DTSTAMP:20260421T154125
CREATED:20260306T204632Z
LAST-MODIFIED:20260309T211459Z
UID:10002425-1782558000-1782561600@blackhistory.pgparks.com
SUMMARY:Runway Rhythms Summer Music Series
DESCRIPTION:Soak up the sounds of summer as local musicians bring the museum courtyard to life! Pack a picnic\, spread out on a blanket or lawn chair\, and enjoy great tunes and snappy beats. Rotating food trucks will be on-site with tasty bites for purchase. Sponsored in part by Riverdale Park Arts and the Field of Firsts Foundation. FREE! No registration required; includes museum admission.
URL:https://blackhistory.pgparks.com/event_list/runway-rhythms-summer-music-series/2026-06-27
CATEGORIES:All Ages,Arts,Exhibition,Festivals,Free,Outdoor Performances,Performances
ATTACH;FMTTYPE=image/jpeg:https://blackhistory.pgparks.com/wp-content/uploads/2026/03/Wunway-Rhythms-202-600x400-1.jpg
END:VEVENT
BEGIN:VEVENT
DTSTART;TZID=America/New_York:20260627T130000
DTEND;TZID=America/New_York:20260627T150000
DTSTAMP:20260421T154125
CREATED:20251211T152155Z
LAST-MODIFIED:20260223T222424Z
UID:10000871-1782565200-1782572400@blackhistory.pgparks.com
SUMMARY:Pop 'Til You Drop
DESCRIPTION:Join us for bubbles\, music\, games\, and activities. All participants must be accompanied by an adult. \n\n\n\nThis event will feature bubble stations\, bubble art\, a foam zone\, a bubble dance party\, and bubble themed treats. Refreshments will be available while supplies last.
URL:https://blackhistory.pgparks.com/event_list/pop-til-you-drop
CATEGORIES:Arts,Special Event,Youth
ATTACH;FMTTYPE=image/png:https://blackhistory.pgparks.com/wp-content/uploads/2025/12/Pop-til-you-drop-600x400-1.png
END:VEVENT
BEGIN:VEVENT
DTSTART;VALUE=DATE:20260630
DTEND;VALUE=DATE:20260701
DTSTAMP:20260421T154125
CREATED:20260306T164301Z
LAST-MODIFIED:20260309T211326Z
UID:10002420-1782777600-1782863999@blackhistory.pgparks.com
SUMMARY:Taratibu!
DESCRIPTION:The Taratibu Youth Association (TYA) is a sensational ensemble of young artists representing the performing arts of the African diaspora. With eclectic and diverse musical influences\, they perform percussive dance styles\, from stepping to traditional South African Gumboot\, modern dance to hip-hop. TYA sings in Zulu and Sotho from South Africa\, Kiswahili from Tanzania\, Creole from Haiti\, and Portuguese from Brazil. Their performances are educational and inspirational\, telling stories of empowerment and cultural history.This performance is part of our Education on Stage Series and is recommended for ages 5-16. Please note\, everyone must have a ticket to enter\, regardless of age. Groups of 20+ can call our Box Office at 301-277-1710 for Group Sales or fill out the online request form. \n\n\n\n              \n               \n               \n                    \n                        \n							                            														\n							                                Jun 30\, 10:30 am Tickets\n                            \n                            							                            														\n							                                Jun 30\, 12 noon Tickets\n                            \n                            							                        \n                    \n            \n              \n      \n\n\n\n              \n               \n               \n                    \n                        \n							                            														\n							                                Jul 2\, 10:30 am Tickets\n                            \n                            							                            														\n							                                Jul 2\, 12 noon Tickets
URL:https://blackhistory.pgparks.com/event_list/taratibu/2026-06-30
CATEGORIES:Arts,Performances,Youth
ATTACH;FMTTYPE=image/jpeg:https://blackhistory.pgparks.com/wp-content/uploads/2026/03/Taratibu-2026-600x400-1.jpg
END:VEVENT
BEGIN:VEVENT
DTSTART;VALUE=DATE:20260702
DTEND;VALUE=DATE:20260703
DTSTAMP:20260421T154125
CREATED:20260306T164301Z
LAST-MODIFIED:20260309T211326Z
UID:10002421-1782988200-1782990900@blackhistory.pgparks.com
SUMMARY:Taratibu!
DESCRIPTION:The Taratibu Youth Association (TYA) is a sensational ensemble of young artists representing the performing arts of the African diaspora. With eclectic and diverse musical influences\, they perform percussive dance styles\, from stepping to traditional South African Gumboot\, modern dance to hip-hop. TYA sings in Zulu and Sotho from South Africa\, Kiswahili from Tanzania\, Creole from Haiti\, and Portuguese from Brazil. Their performances are educational and inspirational\, telling stories of empowerment and cultural history.This performance is part of our Education on Stage Series and is recommended for ages 5-16. Please note\, everyone must have a ticket to enter\, regardless of age. Groups of 20+ can call our Box Office at 301-277-1710 for Group Sales or fill out the online request form. \n\n\n\n              \n               \n               \n                    \n                        \n							                            														\n							                                Jun 30\, 10:30 am Tickets\n                            \n                            							                            														\n							                                Jun 30\, 12 noon Tickets\n                            \n                            							                        \n                    \n            \n              \n      \n\n\n\n              \n               \n               \n                    \n                        \n							                            														\n							                                Jul 2\, 10:30 am Tickets\n                            \n                            							                            														\n							                                Jul 2\, 12 noon Tickets
URL:https://blackhistory.pgparks.com/event_list/taratibu/2026-07-02
CATEGORIES:Arts,Performances,Youth
ATTACH;FMTTYPE=image/jpeg:https://blackhistory.pgparks.com/wp-content/uploads/2026/03/Taratibu-2026-600x400-1.jpg
END:VEVENT
BEGIN:VEVENT
DTSTART;TZID=America/New_York:20260709T190000
DTEND;TZID=America/New_York:20260709T210000
DTSTAMP:20260421T154125
CREATED:20251111T222634Z
LAST-MODIFIED:20260220T145238Z
UID:10000086-1783623600-1783630800@blackhistory.pgparks.com
SUMMARY:Frida
DESCRIPTION:Salma Hayek delivers a stunning performance as Frida Kahlo\, the celebrated Mexican artist known for her striking self-portraits and unfiltered storytelling. This visually rich biopic delves into Kahlo’s personal struggles\, revolutionary spirit\, and enduring influence on the art world.
URL:https://blackhistory.pgparks.com/event_list/frida
CATEGORIES:Arts,Free,Special Event
ATTACH;FMTTYPE=image/png:https://blackhistory.pgparks.com/wp-content/uploads/2025/07/Frida-400x400-1.png
END:VEVENT
BEGIN:VEVENT
DTSTART;TZID=America/New_York:20260711T140000
DTEND;TZID=America/New_York:20260711T160000
DTSTAMP:20260421T154125
CREATED:20251111T222605Z
LAST-MODIFIED:20260220T145143Z
UID:10000019-1783778400-1783785600@blackhistory.pgparks.com
SUMMARY:Aaron Oldenburg: Night Walks - Public Reception
DESCRIPTION:* This exhibition runs Jun. 27–Aug. 8\, with a public reception on Sat.\, Jul. 11. * \n\n\n\nAaron Oldenburg creates artworks using game engines\, coding languages\, 2D and 3D digital art creation software\, and audio sampling. This exhibition is a series of procedural software works\, including interactive virtual reality\, that deal with memory\, climate instability\, and bodily de/re-composition. Prints of screenshots taken from them accompany the works.
URL:https://blackhistory.pgparks.com/event_list/aaron-oldenburg-night-walks-public-reception
CATEGORIES:All Ages,Arts,Exhibition,Free,Public Reception
ATTACH;FMTTYPE=image/png:https://blackhistory.pgparks.com/wp-content/uploads/2025/09/Aaron-Oldenburg.png
END:VEVENT
BEGIN:VEVENT
DTSTART;TZID=America/New_York:20260711T140000
DTEND;TZID=America/New_York:20260711T160000
DTSTAMP:20260421T154125
CREATED:20251111T222736Z
LAST-MODIFIED:20260220T145052Z
UID:10000323-1783778400-1783785600@blackhistory.pgparks.com
SUMMARY:Visiting Resident Artist Exhibition - Public Reception
DESCRIPTION:* This exhibition runs Jun. 27–Aug. 2\, with a public reception on Sat.\, Jul. 11. * \n\n\n\nThis exhibition will showcase work by Montpelier Arts Center’s visiting resident artist\, who has been busy all year creating one-of-a-kind pieces. The Arts Center’s one-year artist residency is a juried competition\, allowing artists to join the resident artist community and conclude their residency with an exhibition.
URL:https://blackhistory.pgparks.com/event_list/visiting-resident-artist-exhibition-public-reception
CATEGORIES:All Ages,Arts,Exhibition,Free,Public Reception
ATTACH;FMTTYPE=image/png:https://blackhistory.pgparks.com/wp-content/uploads/2025/09/Visiting-Resident-Artist-Exhibition-400x400-1.png
END:VEVENT
BEGIN:VEVENT
DTSTART;TZID=America/New_York:20260718T140000
DTEND;TZID=America/New_York:20260718T160000
DTSTAMP:20260421T154125
CREATED:20251111T222704Z
LAST-MODIFIED:20260318T181609Z
UID:10000206-1784383200-1784390400@blackhistory.pgparks.com
SUMMARY:Frolic - Artist & Curator Talk
DESCRIPTION:* This exhibition runs Jun. 15–Aug. 15\, with a public reception on Sat.\, Jun. 20 and an artist and curator talk on Sat.\, Jul. 18. * \n\n\n\nCurated by Rashad Ali Muhammad in celebration of Pride Month\, Frolic is a bold tribute to queer resilience\, creativity\, and joy. Featuring C.S. Corbin\, Chrys Seawood\, Michael P. Jr.\, Miss Grace David\, and Shyama R. Cuver\, this exhibition asserts that joy is not just a byproduct of survival—it is a radical act of resistance. \n\n\n\nThrough collage\, sculpture\, installation\, and digital media\, these artists transform adversity into light\, affirming that queerness is a driving force for cultural progress\, innovation\, and healing. Radiant Resistance is a celebration of thriving\, existing\, and creating unapologetically.
URL:https://blackhistory.pgparks.com/event_list/frolic-artist-curator-talk
CATEGORIES:All Ages,Arts,Exhibition,Free
ATTACH;FMTTYPE=image/png:https://blackhistory.pgparks.com/wp-content/uploads/2025/07/Radiant-2-400x400-1.png
END:VEVENT
BEGIN:VEVENT
DTSTART;TZID=America/New_York:20260725T110000
DTEND;TZID=America/New_York:20260725T120000
DTSTAMP:20260421T154125
CREATED:20260306T204632Z
LAST-MODIFIED:20260309T211459Z
UID:10002426-1784977200-1784980800@blackhistory.pgparks.com
SUMMARY:Runway Rhythms Summer Music Series
DESCRIPTION:Soak up the sounds of summer as local musicians bring the museum courtyard to life! Pack a picnic\, spread out on a blanket or lawn chair\, and enjoy great tunes and snappy beats. Rotating food trucks will be on-site with tasty bites for purchase. Sponsored in part by Riverdale Park Arts and the Field of Firsts Foundation. FREE! No registration required; includes museum admission.
URL:https://blackhistory.pgparks.com/event_list/runway-rhythms-summer-music-series/2026-07-25
CATEGORIES:All Ages,Arts,Exhibition,Festivals,Free,Outdoor Performances,Performances
ATTACH;FMTTYPE=image/jpeg:https://blackhistory.pgparks.com/wp-content/uploads/2026/03/Wunway-Rhythms-202-600x400-1.jpg
END:VEVENT
BEGIN:VEVENT
DTSTART;VALUE=DATE:20260727
DTEND;VALUE=DATE:20260906
DTSTAMP:20260421T154125
CREATED:20251111T222736Z
LAST-MODIFIED:20260220T143513Z
UID:10000325-1785110400-1788652799@blackhistory.pgparks.com
SUMMARY:Washington Sculptors Group: Sculpture NOW 2026
DESCRIPTION:Sculpture NOW 2026 is an annual\, non-thematic exhibition of new works by members of the Washington Sculptors Group. This juried group shows features artworks completed within the last two years. The Washington Sculptors Group (WSG) is a volunteer\, non-profit organization dedicated to promoting awareness of sculpture and fostering exchanges among sculptors\, sculpture enthusiasts\, and the public. Organized in 1984\, membership has grown to over 400; WSG sponsors frequent public programs and organizes professional sculpture exhibitions juried by prominent curators.
URL:https://blackhistory.pgparks.com/event_list/washington-sculptors-group-sculpture-now-2026
CATEGORIES:All Ages,Arts,Exhibition,Free
ATTACH;FMTTYPE=image/png:https://blackhistory.pgparks.com/wp-content/uploads/2025/01/Washington-Sculptors-Group-400x400-1.png
END:VEVENT
BEGIN:VEVENT
DTSTART;TZID=America/New_York:20260727T100000
DTEND;TZID=America/New_York:20260905T160000
DTSTAMP:20260421T154125
CREATED:20251111T222656Z
LAST-MODIFIED:20260220T141516Z
UID:10000173-1785146400-1788624000@blackhistory.pgparks.com
SUMMARY:Maria Santiago: Designing Through the Geometry
DESCRIPTION:Designing through the Geometry comprises two series\, Jupiter Background in Black and Time\, by Argentinian artist Maria Santiago. Time is invisible. The Past-Present-Future is one with constant movement: yesterday\, today\, and tomorrow. Time transforms into small movements or changes. Time is magic. The artist focuses on color and time\, where everything is always moving and everything changes. However\, the background is completely quiet\, and the shapes are only inside the circle as time passes. This mixed-media show focuses on what it means to explore texture and bright colors against geometric shapes.
URL:https://blackhistory.pgparks.com/event_list/maria-santiago-designing-through-the-geometry
CATEGORIES:All Ages,Arts,Exhibition,Free
ATTACH;FMTTYPE=image/png:https://blackhistory.pgparks.com/wp-content/uploads/2025/01/Maria-Santiago.png
END:VEVENT
BEGIN:VEVENT
DTSTART;TZID=America/New_York:20260801T140000
DTEND;TZID=America/New_York:20260801T160000
DTSTAMP:20260421T154125
CREATED:20251111T222656Z
LAST-MODIFIED:20260220T141413Z
UID:10000174-1785592800-1785600000@blackhistory.pgparks.com
SUMMARY:Maria Santiago: Designing Through the Geometry - Public Reception
DESCRIPTION:* This exhibition runs Jul. 27–Sep. 5\, with a public reception on Sat.\, Aug. 1. * \n\n\n\nDesigning through the Geometry comprises two series\, Jupiter Background in Black and Time\, by Argentinian artist Maria Santiago. Time is invisible. The Past-Present-Future is one with constant movement: yesterday\, today\, and tomorrow. Time transforms into small movements or changes. Time is magic. The artist focuses on color and time\, where everything is always moving and everything changes. However\, the background is completely quiet\, and the shapes are only inside the circle as time passes. This mixed-media show focuses on what it means to explore texture and bright colors against geometric shapes.
URL:https://blackhistory.pgparks.com/event_list/maria-santiago-designing-through-the-geometry-public-reception
CATEGORIES:All Ages,Arts,Exhibition,Free,Public Reception
ATTACH;FMTTYPE=image/png:https://blackhistory.pgparks.com/wp-content/uploads/2025/01/Maria-Santiago.png
END:VEVENT
BEGIN:VEVENT
DTSTART;TZID=America/New_York:20260801T140000
DTEND;TZID=America/New_York:20260801T160000
DTSTAMP:20260421T154125
CREATED:20251111T222736Z
LAST-MODIFIED:20260220T141308Z
UID:10000326-1785592800-1785600000@blackhistory.pgparks.com
SUMMARY:Washington Sculptors Group: Sculpture NOW 2026 - Public Reception
DESCRIPTION:* This exhibition runs Jul. 27–Sep. 5\, with a public reception on Sat.\, Aug. 1. * \n\n\n\nSculpture NOW 2026 is an annual non-thematic exhibition of new works by members of the Washington Sculptors Group. This juried group shows features artworks completed within the last two years. The Washington Sculptors Group (WSG) is a volunteer\, non-profit organization dedicated to promoting awareness of sculpture and fostering exchanges among sculptors\, sculpture enthusiasts\, and the public. Organized in 1984\, membership has grown to over 400; WSG sponsors frequent public programs and organizes professional sculpture exhibitions juried by prominent curators.
URL:https://blackhistory.pgparks.com/event_list/washington-sculptors-group-sculpture-now-2026-public-reception
CATEGORIES:All Ages,Arts,Exhibition,Free,Public Reception
ATTACH;FMTTYPE=image/png:https://blackhistory.pgparks.com/wp-content/uploads/2025/01/Washington-Sculptors-Group-400x400-1.png
END:VEVENT
BEGIN:VEVENT
DTSTART;VALUE=DATE:20260811
DTEND;VALUE=DATE:20260812
DTSTAMP:20260421T154125
CREATED:20260306T164817Z
LAST-MODIFIED:20260306T191820Z
UID:10002422-1786406400-1786492799@blackhistory.pgparks.com
SUMMARY:Peter Pan with Brightstar Theatre
DESCRIPTION:Join Brightstar Theatre’s acclaimed comic duo Lenny and Mabel as they hilariously work to bring this literary classic to life in a hysterical play within a play. Young audiences will love the antics of Tinkerbell\, the bumbling Captain Hook\, Darling Wendy (or should we say\, Wendy Darling) and of course the free-spirited adventurous boy who just wouldn’t grow up.This performance is part of our Education on Stage Series and is recommended for ages four to ten. Please note\, everyone must have a ticket to enter\, regardless of age. Groups of 20+ can call our Box Office at 301-277-1710 for Group Sales or fill out the online request form. \n\n\n\n              \n               \n               \n                    \n                        \n							                            														\n							                                Aug. 11\, 10:30 am Tickets\n                            \n                            							                            														\n							                                Aug. 11\, 12 noon Tickets\n                            \n                            							                        \n                    \n            \n              \n      \n\n\n\n              \n               \n               \n                    \n                        \n							                            														\n							                                Aug. 13\, 10:30 am Tickets\n                            \n                            							                            														\n							                                Aug. 13\, 12 noon Tickets
URL:https://blackhistory.pgparks.com/event_list/peter-pan-with-brightstar-theatre/2026-08-11
CATEGORIES:Arts,Performance,Performances,Youth
ATTACH;FMTTYPE=image/jpeg:https://blackhistory.pgparks.com/wp-content/uploads/2026/03/Peter-Pan-2026-600x400-1.jpg
END:VEVENT
BEGIN:VEVENT
DTSTART;VALUE=DATE:20260813
DTEND;VALUE=DATE:20260814
DTSTAMP:20260421T154125
CREATED:20260306T164817Z
LAST-MODIFIED:20260306T191820Z
UID:10002423-1786617000-1786619700@blackhistory.pgparks.com
SUMMARY:Peter Pan with Brightstar Theatre
DESCRIPTION:Join Brightstar Theatre’s acclaimed comic duo Lenny and Mabel as they hilariously work to bring this literary classic to life in a hysterical play within a play. Young audiences will love the antics of Tinkerbell\, the bumbling Captain Hook\, Darling Wendy (or should we say\, Wendy Darling) and of course the free-spirited adventurous boy who just wouldn’t grow up.This performance is part of our Education on Stage Series and is recommended for ages four to ten. Please note\, everyone must have a ticket to enter\, regardless of age. Groups of 20+ can call our Box Office at 301-277-1710 for Group Sales or fill out the online request form. \n\n\n\n              \n               \n               \n                    \n                        \n							                            														\n							                                Aug. 11\, 10:30 am Tickets\n                            \n                            							                            														\n							                                Aug. 11\, 12 noon Tickets\n                            \n                            							                        \n                    \n            \n              \n      \n\n\n\n              \n               \n               \n                    \n                        \n							                            														\n							                                Aug. 13\, 10:30 am Tickets\n                            \n                            							                            														\n							                                Aug. 13\, 12 noon Tickets
URL:https://blackhistory.pgparks.com/event_list/peter-pan-with-brightstar-theatre/2026-08-13
CATEGORIES:Arts,Performance,Performances,Youth
ATTACH;FMTTYPE=image/jpeg:https://blackhistory.pgparks.com/wp-content/uploads/2026/03/Peter-Pan-2026-600x400-1.jpg
END:VEVENT
BEGIN:VEVENT
DTSTART;TZID=America/New_York:20260813T190000
DTEND;TZID=America/New_York:20260813T210000
DTSTAMP:20260421T154125
CREATED:20251111T222704Z
LAST-MODIFIED:20260401T210320Z
UID:10000200-1786647600-1786654800@blackhistory.pgparks.com
SUMMARY:Pollock
DESCRIPTION:Ed Harris stars as Jackson Pollock\, the troubled yet brilliant artist whose drip painting technique changed the course of modern art. This intense and intimate portrayal explores Pollock’s creative process\, personal demons\, and his place in the Abstract Expressionist movement.
URL:https://blackhistory.pgparks.com/event_list/pollock
CATEGORIES:Arts,Free,Special Event
ATTACH;FMTTYPE=image/png:https://blackhistory.pgparks.com/wp-content/uploads/2025/07/Pollock-400x400-1.png
END:VEVENT
BEGIN:VEVENT
DTSTART;TZID=America/New_York:20260829T110000
DTEND;TZID=America/New_York:20260829T120000
DTSTAMP:20260421T154125
CREATED:20260306T204632Z
LAST-MODIFIED:20260309T211459Z
UID:10002427-1788001200-1788004800@blackhistory.pgparks.com
SUMMARY:Runway Rhythms Summer Music Series
DESCRIPTION:Soak up the sounds of summer as local musicians bring the museum courtyard to life! Pack a picnic\, spread out on a blanket or lawn chair\, and enjoy great tunes and snappy beats. Rotating food trucks will be on-site with tasty bites for purchase. Sponsored in part by Riverdale Park Arts and the Field of Firsts Foundation. FREE! No registration required; includes museum admission.
URL:https://blackhistory.pgparks.com/event_list/runway-rhythms-summer-music-series/2026-08-29
CATEGORIES:All Ages,Arts,Exhibition,Festivals,Free,Outdoor Performances,Performances
ATTACH;FMTTYPE=image/jpeg:https://blackhistory.pgparks.com/wp-content/uploads/2026/03/Wunway-Rhythms-202-600x400-1.jpg
END:VEVENT
BEGIN:VEVENT
DTSTART;TZID=America/New_York:20260926T110000
DTEND;TZID=America/New_York:20260926T140000
DTSTAMP:20260421T154125
CREATED:20260218T165737Z
LAST-MODIFIED:20260309T132016Z
UID:10001271-1790420400-1790431200@blackhistory.pgparks.com
SUMMARY:Latinas in Aviation
DESCRIPTION:Celebrate Hispanic Heritage Month with a vibrant celebration honoring Latina pioneers in aviation and the rich cultures of our Latino community. Whether you’re coming for the music\, the stories\, or the chance to connect with your community\, this FREE festival is one you won’t want to miss.
URL:https://blackhistory.pgparks.com/event_list/latinas-in-aviation
CATEGORIES:250th Anniversary,All Ages,Arts,Free,Heritage Celebrations,History,Lifestyle & Learning
ATTACH;FMTTYPE=image/jpeg:https://blackhistory.pgparks.com/wp-content/uploads/2026/02/Latinas-in-Aviation.jpg
END:VEVENT
END:VCALENDAR